{"text_format":"1","workbook":"xlsx","n_sheets":2,"sheets":["počty","IT"],"not_rendered":{"charts":0,"images":1,"macros":1,"external_links":0,"defined_names":9,"comments":0,"pivot_tables":0},"unopened":[],"bounds":{"document_bytes":16777216,"sheet_cells":100000,"rows_first":2000,"rows_last":500,"rows_between":2000,"halvings":0,"cell_chars":16384,"cell_head_chars":4096},"cells_cut":0,"cells_raw":0,"read":"row_number_cap","date_system":"1900"}

{"sheet":"počty","index":0,"n_rows":22,"n_cols":23,"rows_kept":22,"cut":false,"hidden":false,"merged":[[15,21,19,22],[0,5,0,7],[0,13,0,15],[0,17,0,19],[0,1,0,3],[0,9,0,11]],"read":"row_number_cap"}
["Příklady",{"$f":"IT!$W$6","v":"+  -    "},null,null,null,{"$f":"IT!$W$6","v":"+  -    "},null,null,null,{"$f":"IT!$W$6","v":"+  -    "},null,null,null,{"$f":"IT!$W$6","v":"+  -    "},null,null,null,{"$f":"IT!$W$6","v":"+  -    "},null,null,null,"Od kolika",1]
["1. příklad",{"$f":"CONCATENATE(IT!Z2,\" \",IT!AA2,\" \",IT!AB2,\" =\")","v":"9 - 2 ="},null,{"$f":"IF(C2=\"\",\"\",IF(C2=IT!AC2,\"ano\",\"ne\"))","v":""},null,{"$f":"CONCATENATE(IT!AD2,\" \",IT!AE2,\" \",IT!AF2,\" =\")","v":"3 + 10 ="},null,{"$f":"IF(G2=\"\",\"\",IF(G2=IT!AG2,\"ano\",\"ne\"))","v":""},null,{"$f":"CONCATENATE(IT!AH2,\" \",IT!AI2,\" \",IT!AJ2,\" =\")","v":"5 - 3 ="},null,{"$f":"IF(K2=\"\",\"\",IF(K2=IT!AK2,\"ano\",\"ne\"))","v":""},null,{"$f":"CONCATENATE(IT!AL2,\" \",IT!AM2,\" \",IT!AN2,\" =\")","v":"2 + 18 ="},null,{"$f":"IF(O2=\"\",\"\",IF(O2=IT!AO2,\"ano\",\"ne\"))","v":""},null,{"$f":"CONCATENATE(IT!AP2,\" \",IT!AQ2,\" \",IT!AR2,\" =\")","v":"9 + 2 ="},null,{"$f":"IF(S2=\"\",\"\",IF(S2=IT!AS2,\"ano\",\"ne\"))","v":""}]
["2. příklad",{"$f":"CONCATENATE(IT!Z3,\" \",IT!AA3,\" \",IT!AB3,\" =\")","v":"20 + 1 ="},null,{"$f":"IF(C3=\"\",\"\",IF(C3=IT!AC3,\"ano\",\"ne\"))","v":""},null,{"$f":"CONCATENATE(IT!AD3,\" \",IT!AE3,\" \",IT!AF3,\" =\")","v":"5 - 1 ="},null,{"$f":"IF(G3=\"\",\"\",IF(G3=IT!AG3,\"ano\",\"ne\"))","v":""},null,{"$f":"CONCATENATE(IT!AH3,\" \",IT!AI3,\" \",IT!AJ3,\" =\")","v":"13 + 5 ="},null,{"$f":"IF(K3=\"\",\"\",IF(K3=IT!AK3,\"ano\",\"ne\"))","v":""},null,{"$f":"CONCATENATE(IT!AL3,\" \",IT!AM3,\" \",IT!AN3,\" =\")","v":"11 + 3 ="},null,{"$f":"IF(O3=\"\",\"\",IF(O3=IT!AO3,\"ano\",\"ne\"))","v":""},null,{"$f":"CONCATENATE(IT!AP3,\" \",IT!AQ3,\" \",IT!AR3,\" =\")","v":"8 + 11 ="},null,{"$f":"IF(S3=\"\",\"\",IF(S3=IT!AS3,\"ano\",\"ne\"))","v":""},null,"Do kolika:",20]
["3. příklad",{"$f":"CONCATENATE(IT!Z4,\" \",IT!AA4,\" \",IT!AB4,\" =\")","v":"11 + 6 ="},null,{"$f":"IF(C4=\"\",\"\",IF(C4=IT!AC4,\"ano\",\"ne\"))","v":""},null,{"$f":"CONCATENATE(IT!AD4,\" \",IT!AE4,\" \",IT!AF4,\" =\")","v":"2 + 2 ="},null,{"$f":"IF(G4=\"\",\"\",IF(G4=IT!AG4,\"ano\",\"ne\"))","v":""},null,{"$f":"CONCATENATE(IT!AH4,\" \",IT!AI4,\" \",IT!AJ4,\" =\")","v":"12 + 1 ="},null,{"$f":"IF(K4=\"\",\"\",IF(K4=IT!AK4,\"ano\",\"ne\"))","v":""},null,{"$f":"CONCATENATE(IT!AL4,\" \",IT!AM4,\" \",IT!AN4,\" =\")","v":"7 - 4 ="},null,{"$f":"IF(O4=\"\",\"\",IF(O4=IT!AO4,\"ano\",\"ne\"))","v":""},null,{"$f":"CONCATENATE(IT!AP4,\" \",IT!AQ4,\" \",IT!AR4,\" =\")","v":"14 - 2 ="},null,{"$f":"IF(S4=\"\",\"\",IF(S4=IT!AS4,\"ano\",\"ne\"))","v":""}]
["4. příklad",{"$f":"CONCATENATE(IT!Z5,\" \",IT!AA5,\" \",IT!AB5,\" =\")","v":"4 - 3 ="},null,{"$f":"IF(C5=\"\",\"\",IF(C5=IT!AC5,\"ano\",\"ne\"))","v":""},null,{"$f":"CONCATENATE(IT!AD5,\" \",IT!AE5,\" \",IT!AF5,\" =\")","v":"9 - 2 ="},null,{"$f":"IF(G5=\"\",\"\",IF(G5=IT!AG5,\"ano\",\"ne\"))","v":""},null,{"$f":"CONCATENATE(IT!AH5,\" \",IT!AI5,\" \",IT!AJ5,\" =\")","v":"9 + 9 ="},null,{"$f":"IF(K5=\"\",\"\",IF(K5=IT!AK5,\"ano\",\"ne\"))","v":""},null,{"$f":"CONCATENATE(IT!AL5,\" \",IT!AM5,\" \",IT!AN5,\" =\")","v":"15 + 2 ="},null,{"$f":"IF(O5=\"\",\"\",IF(O5=IT!AO5,\"ano\",\"ne\"))","v":""},null,{"$f":"CONCATENATE(IT!AP5,\" \",IT!AQ5,\" \",IT!AR5,\" =\")","v":"11 + 8 ="},null,{"$f":"IF(S5=\"\",\"\",IF(S5=IT!AS5,\"ano\",\"ne\"))","v":""},null,"Sčítání","ano"]
["5. příklad",{"$f":"CONCATENATE(IT!Z6,\" \",IT!AA6,\" \",IT!AB6,\" =\")","v":"19 - 1 ="},null,{"$f":"IF(C6=\"\",\"\",IF(C6=IT!AC6,\"ano\",\"ne\"))","v":""},null,{"$f":"CONCATENATE(IT!AD6,\" \",IT!AE6,\" \",IT!AF6,\" =\")","v":"12 - 1 ="},null,{"$f":"IF(G6=\"\",\"\",IF(G6=IT!AG6,\"ano\",\"ne\"))","v":""},null,{"$f":"CONCATENATE(IT!AH6,\" \",IT!AI6,\" \",IT!AJ6,\" =\")","v":"13 + 6 ="},null,{"$f":"IF(K6=\"\",\"\",IF(K6=IT!AK6,\"ano\",\"ne\"))","v":""},null,{"$f":"CONCATENATE(IT!AL6,\" \",IT!AM6,\" \",IT!AN6,\" =\")","v":"4 - 3 ="},null,{"$f":"IF(O6=\"\",\"\",IF(O6=IT!AO6,\"ano\",\"ne\"))","v":""},null,{"$f":"CONCATENATE(IT!AP6,\" \",IT!AQ6,\" \",IT!AR6,\" =\")","v":"14 + 7 ="},null,{"$f":"IF(S6=\"\",\"\",IF(S6=IT!AS6,\"ano\",\"ne\"))","v":""}]
["6. příklad",{"$f":"CONCATENATE(IT!Z7,\" \",IT!AA7,\" \",IT!AB7,\" =\")","v":"19 + 1 ="},null,{"$f":"IF(C7=\"\",\"\",IF(C7=IT!AC7,\"ano\",\"ne\"))","v":""},null,{"$f":"CONCATENATE(IT!AD7,\" \",IT!AE7,\" \",IT!AF7,\" =\")","v":"12 + 9 ="},null,{"$f":"IF(G7=\"\",\"\",IF(G7=IT!AG7,\"ano\",\"ne\"))","v":""},null,{"$f":"CONCATENATE(IT!AH7,\" \",IT!AI7,\" \",IT!AJ7,\" =\")","v":"17 - 5 ="},null,{"$f":"IF(K7=\"\",\"\",IF(K7=IT!AK7,\"ano\",\"ne\"))","v":""},null,{"$f":"CONCATENATE(IT!AL7,\" \",IT!AM7,\" \",IT!AN7,\" =\")","v":"7 + 7 ="},null,{"$f":"IF(O7=\"\",\"\",IF(O7=IT!AO7,\"ano\",\"ne\"))","v":""},null,{"$f":"CONCATENATE(IT!AP7,\" \",IT!AQ7,\" \",IT!AR7,\" =\")","v":"11 + 10 ="},null,{"$f":"IF(S7=\"\",\"\",IF(S7=IT!AS7,\"ano\",\"ne\"))","v":""},null,"Odčítání","ano"]
["7. příklad",{"$f":"CONCATENATE(IT!Z8,\" \",IT!AA8,\" \",IT!AB8,\" =\")","v":"8 + 9 ="},null,{"$f":"IF(C8=\"\",\"\",IF(C8=IT!AC8,\"ano\",\"ne\"))","v":""},null,{"$f":"CONCATENATE(IT!AD8,\" \",IT!AE8,\" \",IT!AF8,\" =\")","v":"11 - 2 ="},null,{"$f":"IF(G8=\"\",\"\",IF(G8=IT!AG8,\"ano\",\"ne\"))","v":""},null,{"$f":"CONCATENATE(IT!AH8,\" \",IT!AI8,\" \",IT!AJ8,\" =\")","v":"10 + 4 ="},null,{"$f":"IF(K8=\"\",\"\",IF(K8=IT!AK8,\"ano\",\"ne\"))","v":""},null,{"$f":"CONCATENATE(IT!AL8,\" \",IT!AM8,\" \",IT!AN8,\" =\")","v":"8 - 4 ="},null,{"$f":"IF(O8=\"\",\"\",IF(O8=IT!AO8,\"ano\",\"ne\"))","v":""},null,{"$f":"CONCATENATE(IT!AP8,\" \",IT!AQ8,\" \",IT!AR8,\" =\")","v":"12 + 3 ="},null,{"$f":"IF(S8=\"\",\"\",IF(S8=IT!AS8,\"ano\",\"ne\"))","v":""}]
["8. příklad",{"$f":"CONCATENATE(IT!Z9,\" \",IT!AA9,\" \",IT!AB9,\" =\")","v":"9 + 5 ="},null,{"$f":"IF(C9=\"\",\"\",IF(C9=IT!AC9,\"ano\",\"ne\"))","v":""},null,{"$f":"CONCATENATE(IT!AD9,\" \",IT!AE9,\" \",IT!AF9,\" =\")","v":"9 - 2 ="},null,{"$f":"IF(G9=\"\",\"\",IF(G9=IT!AG9,\"ano\",\"ne\"))","v":""},null,{"$f":"CONCATENATE(IT!AH9,\" \",IT!AI9,\" \",IT!AJ9,\" =\")","v":"12 - 10 ="},null,{"$f":"IF(K9=\"\",\"\",IF(K9=IT!AK9,\"ano\",\"ne\"))","v":""},null,{"$f":"CONCATENATE(IT!AL9,\" \",IT!AM9,\" \",IT!AN9,\" =\")","v":"11 + 5 ="},null,{"$f":"IF(O9=\"\",\"\",IF(O9=IT!AO9,\"ano\",\"ne\"))","v":""},null,{"$f":"CONCATENATE(IT!AP9,\" \",IT!AQ9,\" \",IT!AR9,\" =\")","v":"11 + 9 ="},null,{"$f":"IF(S9=\"\",\"\",IF(S9=IT!AS9,\"ano\",\"ne\"))","v":""},null,"Násobení","ne"]
["9. příklad",{"$f":"CONCATENATE(IT!Z10,\" \",IT!AA10,\" \",IT!AB10,\" =\")","v":"19 + 2 ="},null,{"$f":"IF(C10=\"\",\"\",IF(C10=IT!AC10,\"ano\",\"ne\"))","v":""},null,{"$f":"CONCATENATE(IT!AD10,\" \",IT!AE10,\" \",IT!AF10,\" =\")","v":"4 + 9 ="},null,{"$f":"IF(G10=\"\",\"\",IF(G10=IT!AG10,\"ano\",\"ne\"))","v":""},null,{"$f":"CONCATENATE(IT!AH10,\" \",IT!AI10,\" \",IT!AJ10,\" =\")","v":"4 + 14 ="},null,{"$f":"IF(K10=\"\",\"\",IF(K10=IT!AK10,\"ano\",\"ne\"))","v":""},null,{"$f":"CONCATENATE(IT!AL10,\" \",IT!AM10,\" \",IT!AN10,\" =\")","v":"14 - 2 ="},null,{"$f":"IF(O10=\"\",\"\",IF(O10=IT!AO10,\"ano\",\"ne\"))","v":""},null,{"$f":"CONCATENATE(IT!AP10,\" \",IT!AQ10,\" \",IT!AR10,\" =\")","v":"1 - 1 ="},null,{"$f":"IF(S10=\"\",\"\",IF(S10=IT!AS10,\"ano\",\"ne\"))","v":""}]
["10. příklad",{"$f":"CONCATENATE(IT!Z11,\" \",IT!AA11,\" \",IT!AB11,\" =\")","v":"10 - 5 ="},null,{"$f":"IF(C11=\"\",\"\",IF(C11=IT!AC11,\"ano\",\"ne\"))","v":""},null,{"$f":"CONCATENATE(IT!AD11,\" \",IT!AE11,\" \",IT!AF11,\" =\")","v":"15 - 7 ="},null,{"$f":"IF(G11=\"\",\"\",IF(G11=IT!AG11,\"ano\",\"ne\"))","v":""},null,{"$f":"CONCATENATE(IT!AH11,\" \",IT!AI11,\" \",IT!AJ11,\" =\")","v":"19 - 14 ="},null,{"$f":"IF(K11=\"\",\"\",IF(K11=IT!AK11,\"ano\",\"ne\"))","v":""},null,{"$f":"CONCATENATE(IT!AL11,\" \",IT!AM11,\" \",IT!AN11,\" =\")","v":"20 + 1 ="},null,{"$f":"IF(O11=\"\",\"\",IF(O11=IT!AO11,\"ano\",\"ne\"))","v":""},null,{"$f":"CONCATENATE(IT!AP11,\" \",IT!AQ11,\" \",IT!AR11,\" =\")","v":"17 - 2 ="},null,{"$f":"IF(S11=\"\",\"\",IF(S11=IT!AS11,\"ano\",\"ne\"))","v":""},null,"Dělení","ne"]
["11. příklad",{"$f":"CONCATENATE(IT!Z12,\" \",IT!AA12,\" \",IT!AB12,\" =\")","v":"5 + 6 ="},null,{"$f":"IF(C12=\"\",\"\",IF(C12=IT!AC12,\"ano\",\"ne\"))","v":""},null,{"$f":"CONCATENATE(IT!AD12,\" \",IT!AE12,\" \",IT!AF12,\" =\")","v":"1 - 1 ="},null,{"$f":"IF(G12=\"\",\"\",IF(G12=IT!AG12,\"ano\",\"ne\"))","v":""},null,{"$f":"CONCATENATE(IT!AH12,\" \",IT!AI12,\" \",IT!AJ12,\" =\")","v":"6 + 12 ="},null,{"$f":"IF(K12=\"\",\"\",IF(K12=IT!AK12,\"ano\",\"ne\"))","v":""},null,{"$f":"CONCATENATE(IT!AL12,\" \",IT!AM12,\" \",IT!AN12,\" =\")","v":"4 + 3 ="},null,{"$f":"IF(O12=\"\",\"\",IF(O12=IT!AO12,\"ano\",\"ne\"))","v":""},null,{"$f":"CONCATENATE(IT!AP12,\" \",IT!AQ12,\" \",IT!AR12,\" =\")","v":"19 + 2 ="},null,{"$f":"IF(S12=\"\",\"\",IF(S12=IT!AS12,\"ano\",\"ne\"))","v":""}]
["12. příklad",{"$f":"CONCATENATE(IT!Z13,\" \",IT!AA13,\" \",IT!AB13,\" =\")","v":"10 - 4 ="},null,{"$f":"IF(C13=\"\",\"\",IF(C13=IT!AC13,\"ano\",\"ne\"))","v":""},null,{"$f":"CONCATENATE(IT!AD13,\" \",IT!AE13,\" \",IT!AF13,\" =\")","v":"16 - 5 ="},null,{"$f":"IF(G13=\"\",\"\",IF(G13=IT!AG13,\"ano\",\"ne\"))","v":""},null,{"$f":"CONCATENATE(IT!AH13,\" \",IT!AI13,\" \",IT!AJ13,\" =\")","v":"17 + 4 ="},null,{"$f":"IF(K13=\"\",\"\",IF(K13=IT!AK13,\"ano\",\"ne\"))","v":""},null,{"$f":"CONCATENATE(IT!AL13,\" \",IT!AM13,\" \",IT!AN13,\" =\")","v":"7 - 6 ="},null,{"$f":"IF(O13=\"\",\"\",IF(O13=IT!AO13,\"ano\",\"ne\"))","v":""},null,{"$f":"CONCATENATE(IT!AP13,\" \",IT!AQ13,\" \",IT!AR13,\" =\")","v":"5 - 5 ="},null,{"$f":"IF(S13=\"\",\"\",IF(S13=IT!AS13,\"ano\",\"ne\"))","v":""}]
["13. příklad",{"$f":"CONCATENATE(IT!Z14,\" \",IT!AA14,\" \",IT!AB14,\" =\")","v":"10 + 7 ="},null,{"$f":"IF(C14=\"\",\"\",IF(C14=IT!AC14,\"ano\",\"ne\"))","v":""},null,{"$f":"CONCATENATE(IT!AD14,\" \",IT!AE14,\" \",IT!AF14,\" =\")","v":"8 - 4 ="},null,{"$f":"IF(G14=\"\",\"\",IF(G14=IT!AG14,\"ano\",\"ne\"))","v":""},null,{"$f":"CONCATENATE(IT!AH14,\" \",IT!AI14,\" \",IT!AJ14,\" =\")","v":"17 - 3 ="},null,{"$f":"IF(K14=\"\",\"\",IF(K14=IT!AK14,\"ano\",\"ne\"))","v":""},null,{"$f":"CONCATENATE(IT!AL14,\" \",IT!AM14,\" \",IT!AN14,\" =\")","v":"3 - 3 ="},null,{"$f":"IF(O14=\"\",\"\",IF(O14=IT!AO14,\"ano\",\"ne\"))","v":""},null,{"$f":"CONCATENATE(IT!AP14,\" \",IT!AQ14,\" \",IT!AR14,\" =\")","v":"5 - 4 ="},null,{"$f":"IF(S14=\"\",\"\",IF(S14=IT!AS14,\"ano\",\"ne\"))","v":""}]
["14. příklad",{"$f":"CONCATENATE(IT!Z15,\" \",IT!AA15,\" \",IT!AB15,\" =\")","v":"20 - 20 ="},null,{"$f":"IF(C15=\"\",\"\",IF(C15=IT!AC15,\"ano\",\"ne\"))","v":""},null,{"$f":"CONCATENATE(IT!AD15,\" \",IT!AE15,\" \",IT!AF15,\" =\")","v":"8 - 2 ="},null,{"$f":"IF(G15=\"\",\"\",IF(G15=IT!AG15,\"ano\",\"ne\"))","v":""},null,{"$f":"CONCATENATE(IT!AH15,\" \",IT!AI15,\" \",IT!AJ15,\" =\")","v":"5 + 5 ="},null,{"$f":"IF(K15=\"\",\"\",IF(K15=IT!AK15,\"ano\",\"ne\"))","v":""},null,{"$f":"CONCATENATE(IT!AL15,\" \",IT!AM15,\" \",IT!AN15,\" =\")","v":"19 + 1 ="},null,{"$f":"IF(O15=\"\",\"\",IF(O15=IT!AO15,\"ano\",\"ne\"))","v":""},null,{"$f":"CONCATENATE(IT!AP15,\" \",IT!AQ15,\" \",IT!AR15,\" =\")","v":"16 + 2 ="},null,{"$f":"IF(S15=\"\",\"\",IF(S15=IT!AS15,\"ano\",\"ne\"))","v":""}]
["15. příklad",{"$f":"CONCATENATE(IT!Z16,\" \",IT!AA16,\" \",IT!AB16,\" =\")","v":"18 + 2 ="},null,{"$f":"IF(C16=\"\",\"\",IF(C16=IT!AC16,\"ano\",\"ne\"))","v":""},null,{"$f":"CONCATENATE(IT!AD16,\" \",IT!AE16,\" \",IT!AF16,\" =\")","v":"15 - 15 ="},null,{"$f":"IF(G16=\"\",\"\",IF(G16=IT!AG16,\"ano\",\"ne\"))","v":""},null,{"$f":"CONCATENATE(IT!AH16,\" \",IT!AI16,\" \",IT!AJ16,\" =\")","v":"16 - 8 ="},null,{"$f":"IF(K16=\"\",\"\",IF(K16=IT!AK16,\"ano\",\"ne\"))","v":""},null,{"$f":"CONCATENATE(IT!AL16,\" \",IT!AM16,\" \",IT!AN16,\" =\")","v":"14 - 4 ="},null,{"$f":"IF(O16=\"\",\"\",IF(O16=IT!AO16,\"ano\",\"ne\"))","v":""},null,{"$f":"CONCATENATE(IT!AP16,\" \",IT!AQ16,\" \",IT!AR16,\" =\")","v":"1 + 10 ="},null,{"$f":"IF(S16=\"\",\"\",IF(S16=IT!AS16,\"ano\",\"ne\"))","v":""},null,"Zadejte \"od\" a \"do\" kolika chcete počty procvičovat, označte \"ano\" nebo \"ne\" jaký typ výpočtů se má použít, poté stiskněte tlačítko \" NOVÉ ZADÁNÍ\". Příklady je možno řešit přímo v počítači, nebo vytisknout. Hezkou zábavu."]
["16. příklad",{"$f":"CONCATENATE(IT!Z17,\" \",IT!AA17,\" \",IT!AB17,\" =\")","v":"7 - 1 ="},null,{"$f":"IF(C17=\"\",\"\",IF(C17=IT!AC17,\"ano\",\"ne\"))","v":""},null,{"$f":"CONCATENATE(IT!AD17,\" \",IT!AE17,\" \",IT!AF17,\" =\")","v":"8 + 2 ="},null,{"$f":"IF(G17=\"\",\"\",IF(G17=IT!AG17,\"ano\",\"ne\"))","v":""},null,{"$f":"CONCATENATE(IT!AH17,\" \",IT!AI17,\" \",IT!AJ17,\" =\")","v":"13 + 7 ="},null,{"$f":"IF(K17=\"\",\"\",IF(K17=IT!AK17,\"ano\",\"ne\"))","v":""},null,{"$f":"CONCATENATE(IT!AL17,\" \",IT!AM17,\" \",IT!AN17,\" =\")","v":"17 - 1 ="},null,{"$f":"IF(O17=\"\",\"\",IF(O17=IT!AO17,\"ano\",\"ne\"))","v":""},null,{"$f":"CONCATENATE(IT!AP17,\" \",IT!AQ17,\" \",IT!AR17,\" =\")","v":"6 - 5 ="},null,{"$f":"IF(S17=\"\",\"\",IF(S17=IT!AS17,\"ano\",\"ne\"))","v":""}]
["17. příklad",{"$f":"CONCATENATE(IT!Z18,\" \",IT!AA18,\" \",IT!AB18,\" =\")","v":"16 + 2 ="},null,{"$f":"IF(C18=\"\",\"\",IF(C18=IT!AC18,\"ano\",\"ne\"))","v":""},null,{"$f":"CONCATENATE(IT!AD18,\" \",IT!AE18,\" \",IT!AF18,\" =\")","v":"5 + 9 ="},null,{"$f":"IF(G18=\"\",\"\",IF(G18=IT!AG18,\"ano\",\"ne\"))","v":""},null,{"$f":"CONCATENATE(IT!AH18,\" \",IT!AI18,\" \",IT!AJ18,\" =\")","v":"13 - 8 ="},null,{"$f":"IF(K18=\"\",\"\",IF(K18=IT!AK18,\"ano\",\"ne\"))","v":""},null,{"$f":"CONCATENATE(IT!AL18,\" \",IT!AM18,\" \",IT!AN18,\" =\")","v":"19 - 6 ="},null,{"$f":"IF(O18=\"\",\"\",IF(O18=IT!AO18,\"ano\",\"ne\"))","v":""},null,{"$f":"CONCATENATE(IT!AP18,\" \",IT!AQ18,\" \",IT!AR18,\" =\")","v":"17 + 3 ="},null,{"$f":"IF(S18=\"\",\"\",IF(S18=IT!AS18,\"ano\",\"ne\"))","v":""}]
["18. příklad",{"$f":"CONCATENATE(IT!Z19,\" \",IT!AA19,\" \",IT!AB19,\" =\")","v":"8 - 3 ="},null,{"$f":"IF(C19=\"\",\"\",IF(C19=IT!AC19,\"ano\",\"ne\"))","v":""},null,{"$f":"CONCATENATE(IT!AD19,\" \",IT!AE19,\" \",IT!AF19,\" =\")","v":"14 - 11 ="},null,{"$f":"IF(G19=\"\",\"\",IF(G19=IT!AG19,\"ano\",\"ne\"))","v":""},null,{"$f":"CONCATENATE(IT!AH19,\" \",IT!AI19,\" \",IT!AJ19,\" =\")","v":"4 + 15 ="},null,{"$f":"IF(K19=\"\",\"\",IF(K19=IT!AK19,\"ano\",\"ne\"))","v":""},null,{"$f":"CONCATENATE(IT!AL19,\" \",IT!AM19,\" \",IT!AN19,\" =\")","v":"13 + 5 ="},null,{"$f":"IF(O19=\"\",\"\",IF(O19=IT!AO19,\"ano\",\"ne\"))","v":""},null,{"$f":"CONCATENATE(IT!AP19,\" \",IT!AQ19,\" \",IT!AR19,\" =\")","v":"10 + 9 ="},null,{"$f":"IF(S19=\"\",\"\",IF(S19=IT!AS19,\"ano\",\"ne\"))","v":""}]
["19. příklad",{"$f":"CONCATENATE(IT!Z20,\" \",IT!AA20,\" \",IT!AB20,\" =\")","v":"18 - 17 ="},null,{"$f":"IF(C20=\"\",\"\",IF(C20=IT!AC20,\"ano\",\"ne\"))","v":""},null,{"$f":"CONCATENATE(IT!AD20,\" \",IT!AE20,\" \",IT!AF20,\" =\")","v":"9 - 3 ="},null,{"$f":"IF(G20=\"\",\"\",IF(G20=IT!AG20,\"ano\",\"ne\"))","v":""},null,{"$f":"CONCATENATE(IT!AH20,\" \",IT!AI20,\" \",IT!AJ20,\" =\")","v":"14 - 8 ="},null,{"$f":"IF(K20=\"\",\"\",IF(K20=IT!AK20,\"ano\",\"ne\"))","v":""},null,{"$f":"CONCATENATE(IT!AL20,\" \",IT!AM20,\" \",IT!AN20,\" =\")","v":"20 + 1 ="},null,{"$f":"IF(O20=\"\",\"\",IF(O20=IT!AO20,\"ano\",\"ne\"))","v":""},null,{"$f":"CONCATENATE(IT!AP20,\" \",IT!AQ20,\" \",IT!AR20,\" =\")","v":"17 + 2 ="},null,{"$f":"IF(S20=\"\",\"\",IF(S20=IT!AS20,\"ano\",\"ne\"))","v":""}]
["20. příklad",{"$f":"CONCATENATE(IT!Z21,\" \",IT!AA21,\" \",IT!AB21,\" =\")","v":"3 + 7 ="},null,{"$f":"IF(C21=\"\",\"\",IF(C21=IT!AC21,\"ano\",\"ne\"))","v":""},null,{"$f":"CONCATENATE(IT!AD21,\" \",IT!AE21,\" \",IT!AF21,\" =\")","v":"12 + 5 ="},null,{"$f":"IF(G21=\"\",\"\",IF(G21=IT!AG21,\"ano\",\"ne\"))","v":""},null,{"$f":"CONCATENATE(IT!AH21,\" \",IT!AI21,\" \",IT!AJ21,\" =\")","v":"3 - 1 ="},null,{"$f":"IF(K21=\"\",\"\",IF(K21=IT!AK21,\"ano\",\"ne\"))","v":""},null,{"$f":"CONCATENATE(IT!AL21,\" \",IT!AM21,\" \",IT!AN21,\" =\")","v":"10 + 8 ="},null,{"$f":"IF(O21=\"\",\"\",IF(O21=IT!AO21,\"ano\",\"ne\"))","v":""},null,{"$f":"CONCATENATE(IT!AP21,\" \",IT!AQ21,\" \",IT!AR21,\" =\")","v":"12 + 1 ="},null,{"$f":"IF(S21=\"\",\"\",IF(S21=IT!AS21,\"ano\",\"ne\"))","v":""}]
[null,null,null,{"$f":"IF(C22=\"\",\"\",IF(C22=IT!AC22,\"ano\",\"ne\"))","v":""}]

{"sheet":"IT","index":1,"n_rows":21,"n_cols":45,"rows_kept":21,"cut":false,"hidden":false,"merged":[[0,25,0,28],[0,29,0,32],[0,33,0,36]]}
["1.č.","zn.","2.č.","výsl.","1.č.","zn.","2.č.","výsl.","1.č.","zn.","2.č.","výsl.","1.č.","zn.","2.č.","výsl.","1.č.","zn.","2.č.","výsl.",null,null,"znaménka","ano/ne",null,"úkol 1.sl.",null,null,null,"úkol 2.sl.",null,null,null,"úkol 3.sl.",null,null,null,"úkol 4.sl.",null,null,null,"úkol 4.sl."]
[{"$f":"IF(B2=\"+\",RANDBETWEEN(minimum,maximum),IF(B2=\"-\",RANDBETWEEN(minimum,maximum),IF(B2=\"x\",RANDBETWEEN(minimum,TRUNC(maximum/2)),D2*C2)))","v":14},{"$f":"MID($W$7,RANDBETWEEN(1,LEN($W$7)),1)","v":"+"},{"$f":"IF(B2=\"+\",RANDBETWEEN(minimum,maximum-A2+1),IF(B2=\"-\",RANDBETWEEN(minimum,A2),IF(B2=\"x\",RANDBETWEEN(minimum,maximum/A2),RANDBETWEEN(minimum,maximum/D2))))","v":5},{"$f":"IF(B2=\"+\",A2+C2,IF(B2=\"-\",A2-C2,IF(B2=\"x\",A2*C2,RANDBETWEEN(minimum,maximum/2))))","v":19},{"$f":"IF(F2=\"+\",RANDBETWEEN(minimum,maximum),IF(F2=\"-\",RANDBETWEEN(minimum,maximum),IF(F2=\"x\",RANDBETWEEN(minimum,TRUNC(maximum/2)),H2*G2)))","v":12},{"$f":"MID($W$7,RANDBETWEEN(1,LEN($W$7)),1)","v":"-"},{"$f":"IF(F2=\"+\",RANDBETWEEN(minimum,maximum-E2+1),IF(F2=\"-\",RANDBETWEEN(minimum,E2),IF(F2=\"x\",RANDBETWEEN(minimum,maximum/E2),RANDBETWEEN(minimum,maximum/H2))))","v":4},{"$f":"IF(F2=\"+\",E2+G2,IF(F2=\"-\",E2-G2,IF(F2=\"x\",E2*G2,RANDBETWEEN(minimum,maximum/2))))","v":8},{"$f":"IF(J2=\"+\",RANDBETWEEN(minimum,maximum),IF(J2=\"-\",RANDBETWEEN(minimum,maximum),IF(J2=\"x\",RANDBETWEEN(minimum,TRUNC(maximum/2)),L2*K2)))","v":2},"-",{"$f":"IF(J2=\"+\",RANDBETWEEN(minimum,maximum-I2+1),IF(J2=\"-\",RANDBETWEEN(minimum,I2),IF(J2=\"x\",RANDBETWEEN(minimum,maximum/I2),RANDBETWEEN(minimum,maximum/L2))))","v":2},{"$f":"IF(J2=\"+\",I2+K2,IF(J2=\"-\",I2-K2,IF(J2=\"x\",I2*K2,RANDBETWEEN(minimum,maximum/2))))","v":0},{"$f":"IF(N2=\"+\",RANDBETWEEN(minimum,maximum),IF(N2=\"-\",RANDBETWEEN(minimum,maximum),IF(N2=\"x\",RANDBETWEEN(minimum,TRUNC(maximum/2)),P2*O2)))","v":5},"+",{"$f":"IF(N2=\"+\",RANDBETWEEN(minimum,maximum-M2+1),IF(N2=\"-\",RANDBETWEEN(minimum,M2),IF(N2=\"x\",RANDBETWEEN(minimum,maximum/M2),RANDBETWEEN(minimum,maximum/P2))))","v":7},{"$f":"IF(N2=\"+\",M2+O2,IF(N2=\"-\",M2-O2,IF(N2=\"x\",M2*O2,RANDBETWEEN(minimum,maximum/2))))","v":12},{"$f":"IF(R2=\"+\",RANDBETWEEN(minimum,maximum),IF(R2=\"-\",RANDBETWEEN(minimum,maximum),IF(R2=\"x\",RANDBETWEEN(minimum,TRUNC(maximum/2)),T2*S2)))","v":2},{"$f":"MID($W$7,RANDBETWEEN(1,LEN($W$7)),1)","v":"-"},{"$f":"IF(R2=\"+\",RANDBETWEEN(minimum,maximum-Q2+1),IF(R2=\"-\",RANDBETWEEN(minimum,Q2),IF(R2=\"x\",RANDBETWEEN(minimum,maximum/Q2),RANDBETWEEN(minimum,maximum/T2))))","v":2},{"$f":"IF(R2=\"+\",Q2+S2,IF(R2=\"-\",Q2-S2,IF(R2=\"x\",Q2*S2,RANDBETWEEN(minimum,maximum/2))))","v":0},null,null,{"$f":"IF(součet=\"ano\",\"+\",\"\")","v":"+"},"ano",null,9,"-",2,7,3,"+",10,13,5,"-",3,2,2,"+",18,20,9,"+",2,11]
[4,"+",8,12,1,"+",1,2,9,"-",5,4,13,"+",4,17,2,"+",15,17,null,null,{"$f":"IF(rozdíl=\"ano\",\"-\",\"\")","v":"-"},"ne",null,20,"+",1,21,5,"-",1,4,13,"+",5,18,11,"+",3,14,8,"+",11,19]
[20,"-",1,19,17,"-",7,10,4,"-",3,1,17,"+",2,19,17,"-",4,13,null,null,{"$f":"IF(součin=\"ano\",\"x\",\"\")","v":""},null,null,11,"+",6,17,2,"+",2,4,12,"+",1,13,7,"-",4,3,14,"-",2,12]
[5,"+",10,15,10,"-",9,1,4,"+",15,19,19,"-",4,15,3,"+",1,4,null,null,{"$f":"IF(podíl=\"ano\",\":\",\"\")","v":""},null,null,4,"-",3,1,9,"-",2,7,9,"+",9,18,15,"+",2,17,11,"+",8,19]
[8,"-",5,3,14,"+",5,19,18,"-",16,2,8,"-",8,0,8,"+",6,14,null,null,{"$f":"CONCATENATE(W2,\"  \",W3,\"  \",W4,\"  \",W5)","v":"+  -    "},null,null,19,"-",1,18,12,"-",1,11,13,"+",6,19,4,"-",3,1,14,"+",7,21]
[11,"+",10,21,11,"+",10,21,15,"+",4,19,6,"+",5,11,15,"+",3,18,null,null,{"$f":"CONCATENATE(W2,W3,W4,W5)","v":"+-"},null,null,19,"+",1,20,12,"+",9,21,17,"-",5,12,7,"+",7,14,11,"+",10,21]
[1,"+",20,21,9,"-",2,7,2,"-",2,0,19,"-",12,7,3,"-",2,1,null,null,null,null,null,8,"+",9,17,11,"-",2,9,10,"+",4,14,8,"-",4,4,12,"+",3,15]
[5,"-",3,2,8,"+",13,21,16,"-",12,4,13,"-",8,5,15,"+",5,20,null,null,null,null,null,9,"+",5,14,9,"-",2,7,12,"-",10,2,11,"+",5,16,11,"+",9,20]
[2,"+",15,17,1,"+",5,6,1,"+",11,12,19,"-",15,4,20,"-",3,17,null,null,null,null,null,19,"+",2,21,4,"+",9,13,4,"+",14,18,14,"-",2,12,1,"-",1,0]
[2,"-",2,0,16,"-",7,9,15,"+",3,18,3,"+",9,12,14,"+",6,20,null,null,null,null,null,10,"-",5,5,15,"-",7,8,19,"-",14,5,20,"+",1,21,17,"-",2,15]
[9,"-",6,3,6,"+",11,17,11,"-",5,6,17,"+",1,18,4,"+",2,6,null,null,null,null,null,5,"+",6,11,1,"-",1,0,6,"+",12,18,4,"+",3,7,19,"+",2,21]
[12,"+",6,18,20,"+",1,21,2,"-",2,0,16,"+",5,21,20,"+",1,21,null,null,null,null,null,10,"-",4,6,16,"-",5,11,17,"+",4,21,7,"-",6,1,5,"-",5,0]
[12,"+",8,20,2,"+",6,8,14,"-",11,3,19,"-",4,15,15,"+",1,16,null,null,null,null,null,10,"+",7,17,8,"-",4,4,17,"-",3,14,3,"-",3,0,5,"-",4,1]
[18,"+",1,19,9,"-",3,6,14,"+",2,16,6,"-",5,1,19,"-",3,16,null,null,null,null,null,20,"-",20,0,8,"-",2,6,5,"+",5,10,19,"+",1,20,16,"+",2,18]
[18,"+",3,21,10,"-",2,8,20,"-",5,15,7,"-",6,1,10,"-",9,1,null,null,null,null,null,18,"+",2,20,15,"-",15,0,16,"-",8,8,14,"-",4,10,1,"+",10,11]
[3,"+",11,14,16,"+",3,19,20,"+",1,21,18,"+",3,21,6,"-",1,5,null,null,null,null,null,7,"-",1,6,8,"+",2,10,13,"+",7,20,17,"-",1,16,6,"-",5,1]
[11,"+",9,20,6,"-",6,0,16,"-",6,10,2,"+",3,5,16,"+",4,20,null,null,null,null,null,16,"+",2,18,5,"+",9,14,13,"-",8,5,19,"-",6,13,17,"+",3,20]
[7,"+",10,17,7,"-",1,6,9,"+",9,18,19,"+",1,20,20,"-",13,7,null,null,null,null,null,8,"-",3,5,14,"-",11,3,4,"+",15,19,13,"+",5,18,10,"+",9,19]
[4,"+",13,17,12,"-",7,5,12,"-",8,4,6,"+",2,8,4,"-",3,1,null,null,null,null,null,18,"-",17,1,9,"-",3,6,14,"-",8,6,20,"+",1,21,17,"+",2,19]
[18,"+",2,20,20,"+",1,21,15,"-",7,8,11,"-",4,7,2,"+",9,11,null,null,null,null,null,3,"+",7,10,12,"+",5,17,3,"-",1,2,10,"+",8,18,12,"+",1,13]